Package: rBiopaxParser Version: 2.49.0 Maintainer: Frank Kramer MaintainerEmail: frank.kramer at informatik.uni-augsburg.de git_url: https://git.bioconductor.org/packages/rBiopaxParser git_branch: devel git_last_commit: 2f5f7e4 git_last_commit_date: 2025-04-15 10:17:44 -0400 (Tue, 15 Apr 2025)