Package: rBLAST Version: 1.5.0 Maintainer: Michael Hahsler MaintainerEmail: mhahsler at lyle.smu.edu git_url: https://git.bioconductor.org/packages/rBLAST git_branch: devel git_last_commit: 6be57f4 git_last_commit_date: 2025-04-15 13:34:39 -0400 (Tue, 15 Apr 2025)