Package: qvalue Version: 2.41.0 Command: /Library/Frameworks/R.framework/Resources/bin/R CMD INSTALL qvalue StartedAt: 2025-05-02 15:08:58 -0400 (Fri, 02 May 2025) EndedAt: 2025-05-02 15:09:35 -0400 (Fri, 02 May 2025) EllapsedTime: 37.7 seconds RetCode: 0 Status: OK