Package: qusage Version: 2.41.0 Command: /Library/Frameworks/R.framework/Resources/bin/R CMD build --keep-empty-dirs --no-resave-data qusage StartedAt: 2025-01-10 17:22:09 -0500 (Fri, 10 Jan 2025) EndedAt: 2025-01-10 17:24:47 -0500 (Fri, 10 Jan 2025) EllapsedTime: 157.9 seconds RetCode: 0 Status: OK PackageFile: qusage_2.41.0.tar.gz PackageFileSize: 9.67 MiB