Package: quantsmooth Version: 1.73.0 Command: /Library/Frameworks/R.framework/Resources/bin/R CMD INSTALL quantsmooth StartedAt: 2025-02-16 15:21:57 -0500 (Sun, 16 Feb 2025) EndedAt: 2025-02-16 15:22:00 -0500 (Sun, 16 Feb 2025) EllapsedTime: 3.5 seconds RetCode: 0 Status: OK