Package: quantro Version: 1.43.0 Command: chmod a+r quantro -R && F:\biocbuild\bbs-3.22-bioc\R\bin\R.exe CMD build --keep-empty-dirs --no-resave-data quantro StartedAt: 2025-08-14 22:33:09 -0400 (Thu, 14 Aug 2025) EndedAt: 2025-08-14 22:35:32 -0400 (Thu, 14 Aug 2025) EllapsedTime: 143.2 seconds RetCode: 1 Status: ERROR PackageFile: None PackageFileSize: NA