Package: quantro Version: 1.41.0 Command: E:\biocbuild\bbs-3.21-bioc\R\bin\R.exe CMD INSTALL quantro StartedAt: 2025-02-03 17:10:01 -0500 (Mon, 03 Feb 2025) EndedAt: 2025-02-03 17:10:59 -0500 (Mon, 03 Feb 2025) EllapsedTime: 58.1 seconds RetCode: 0 Status: OK