Package: quantro Version: 1.41.0 Command: chmod a+r quantro -R && E:\biocbuild\bbs-3.21-bioc\R\bin\R.exe CMD build --keep-empty-dirs --no-resave-data quantro StartedAt: 2025-02-03 21:10:16 -0500 (Mon, 03 Feb 2025) EndedAt: 2025-02-03 21:12:29 -0500 (Mon, 03 Feb 2025) EllapsedTime: 132.8 seconds RetCode: 0 Status: OK PackageFile: quantro_1.41.0.tar.gz PackageFileSize: 2.51 MiB