Package: quantro Version: 1.41.0 Command: rm -rf quantro.buildbin-libdir && mkdir quantro.buildbin-libdir && E:\biocbuild\bbs-3.21-bioc\R\bin\R.exe CMD INSTALL --build --library=quantro.buildbin-libdir quantro_1.41.0.tar.gz StartedAt: 2025-02-04 08:40:29 -0500 (Tue, 04 Feb 2025) EndedAt: 2025-02-04 08:41:26 -0500 (Tue, 04 Feb 2025) EllapsedTime: 57.1 seconds RetCode: 0 Status: OK PackageFile: quantro_1.41.0.zip PackageFileSize: 2.868 MiB