Package: quantiseqr Version: 1.15.0 Command: E:\biocbuild\bbs-3.21-bioc\R\bin\R.exe CMD INSTALL quantiseqr StartedAt: 2025-02-03 16:22:56 -0500 (Mon, 03 Feb 2025) EndedAt: 2025-02-03 16:23:28 -0500 (Mon, 03 Feb 2025) EllapsedTime: 32.1 seconds RetCode: 0 Status: OK