Package: quantiseqr Version: 1.15.0 Command: E:\biocbuild\bbs-3.21-bioc\R\bin\R.exe CMD check --no-multiarch --install=check:quantiseqr.install-out.txt --library=E:\biocbuild\bbs-3.21-bioc\R\library --no-vignettes --timings quantiseqr_1.15.0.tar.gz StartedAt: 2025-02-04 04:50:26 -0500 (Tue, 04 Feb 2025) EndedAt: 2025-02-04 04:54:43 -0500 (Tue, 04 Feb 2025) EllapsedTime: 257.0 seconds RetCode: 0 Status: OK CheckDir: quantiseqr.Rcheck Warnings: 0