Package: quantiseqr Version: 1.17.0 Command: /Library/Frameworks/R.framework/Resources/bin/R CMD check --install=check:quantiseqr.install-out.txt --library=/Library/Frameworks/R.framework/Resources/library --no-vignettes --timings quantiseqr_1.17.0.tar.gz StartedAt: 2025-05-09 22:52:56 -0400 (Fri, 09 May 2025) EndedAt: 2025-05-09 22:57:36 -0400 (Fri, 09 May 2025) EllapsedTime: 279.9 seconds RetCode: 0 Status: OK CheckDir: quantiseqr.Rcheck Warnings: 0