Package: quantiseqr Version: 1.17.0 Command: rm -rf quantiseqr.buildbin-libdir && mkdir quantiseqr.buildbin-libdir && /Users/biocbuild/BBS/utils/build-universal.sh quantiseqr_1.17.0.tar.gz /Library/Frameworks/R.framework/Resources/bin/R quantiseqr.buildbin-libdir StartedAt: 2025-05-10 01:02:54 -0400 (Sat, 10 May 2025) EndedAt: 2025-05-10 01:03:29 -0400 (Sat, 10 May 2025) EllapsedTime: 34.8 seconds RetCode: 0 Status: OK PackageFile: quantiseqr_1.17.0.tgz PackageFileSize: 3.566 MiB