Package: quantiseqr Version: 1.17.0 Command: /Library/Frameworks/R.framework/Resources/bin/R CMD INSTALL quantiseqr StartedAt: 2025-05-09 15:16:32 -0400 (Fri, 09 May 2025) EndedAt: 2025-05-09 15:16:42 -0400 (Fri, 09 May 2025) EllapsedTime: 10.3 seconds RetCode: 0 Status: OK