Package: qsvaR Version: 1.13.1 Command: chmod a+r qsvaR -R && F:\biocbuild\bbs-3.22-bioc\R\bin\R.exe CMD build --keep-empty-dirs --no-resave-data qsvaR StartedAt: 2025-08-14 22:32:23 -0400 (Thu, 14 Aug 2025) EndedAt: 2025-08-14 22:39:11 -0400 (Thu, 14 Aug 2025) EllapsedTime: 408.8 seconds RetCode: 0 Status: OK PackageFile: qsvaR_1.13.1.tar.gz PackageFileSize: 3.3 MiB