Package: qsvaR Version: 1.11.1 Command: chmod a+r qsvaR -R && E:\biocbuild\bbs-3.21-bioc\R\bin\R.exe CMD build --keep-empty-dirs --no-resave-data qsvaR StartedAt: 2025-02-16 20:50:27 -0500 (Sun, 16 Feb 2025) EndedAt: 2025-02-16 20:57:08 -0500 (Sun, 16 Feb 2025) EllapsedTime: 401.0 seconds RetCode: 0 Status: OK PackageFile: qsvaR_1.11.1.tar.gz PackageFileSize: 3.726 MiB