Package: qsvaR Version: 1.13.3 Command: /home/biocbuild/bbs-3.22-bioc/R/bin/R CMD INSTALL qsvaR StartedAt: 2025-10-14 15:28:46 -0400 (Tue, 14 Oct 2025) EndedAt: 2025-10-14 15:29:17 -0400 (Tue, 14 Oct 2025) EllapsedTime: 31.1 seconds RetCode: 0 Status: OK