Package: qsvaR Version: 1.13.3 Command: /home/biocbuild/bbs-3.22-bioc/R/bin/R CMD build --keep-empty-dirs --no-resave-data --md5 qsvaR StartedAt: 2025-10-14 19:28:19 -0400 (Tue, 14 Oct 2025) EndedAt: 2025-10-14 19:35:07 -0400 (Tue, 14 Oct 2025) EllapsedTime: 408.4 seconds RetCode: 0 Status: OK PackageFile: qsvaR_1.13.3.tar.gz PackageFileSize: 3.352 MiB