Package: qsvaR Version: 1.11.1 Command: /Library/Frameworks/R.framework/Resources/bin/R CMD build --keep-empty-dirs --no-resave-data qsvaR StartedAt: 2025-02-16 17:49:31 -0500 (Sun, 16 Feb 2025) EndedAt: 2025-02-16 17:56:15 -0500 (Sun, 16 Feb 2025) EllapsedTime: 403.5 seconds RetCode: 0 Status: OK PackageFile: qsvaR_1.11.1.tar.gz PackageFileSize: 3.809 MiB