Package: qsvaR Version: 1.11.1 Command: /home/biocbuild/R/R/bin/R CMD build --keep-empty-dirs --no-resave-data qsvaR StartedAt: 2025-01-29 01:26:57 -0000 (Wed, 29 Jan 2025) EndedAt: 2025-01-29 01:45:48 -0000 (Wed, 29 Jan 2025) EllapsedTime: 1130.7 seconds RetCode: 0 Status: OK PackageFile: qsvaR_1.11.1.tar.gz PackageFileSize: 3.771 MiB