Package: qsmooth Version: 1.23.0 Command: E:\biocbuild\bbs-3.21-bioc\R\bin\R.exe CMD INSTALL qsmooth StartedAt: 2025-02-05 16:40:36 -0500 (Wed, 05 Feb 2025) EndedAt: 2025-02-05 16:41:17 -0500 (Wed, 05 Feb 2025) EllapsedTime: 41.9 seconds RetCode: 0 Status: OK