Package: qsmooth Version: 1.23.0 Command: chmod a+r qsmooth -R && E:\biocbuild\bbs-3.21-bioc\R\bin\R.exe CMD build --keep-empty-dirs --no-resave-data qsmooth StartedAt: 2025-02-05 21:02:23 -0500 (Wed, 05 Feb 2025) EndedAt: 2025-02-05 21:04:45 -0500 (Wed, 05 Feb 2025) EllapsedTime: 142.9 seconds RetCode: 0 Status: OK PackageFile: qsmooth_1.23.0.tar.gz PackageFileSize: 770.1 KiB