Package: qsmooth Version: 1.23.0 Command: rm -rf qsmooth.buildbin-libdir && mkdir qsmooth.buildbin-libdir && E:\biocbuild\bbs-3.21-bioc\R\bin\R.exe CMD INSTALL --build --library=qsmooth.buildbin-libdir qsmooth_1.23.0.tar.gz StartedAt: 2025-02-04 08:40:02 -0500 (Tue, 04 Feb 2025) EndedAt: 2025-02-04 08:40:41 -0500 (Tue, 04 Feb 2025) EllapsedTime: 39.9 seconds RetCode: 0 Status: OK PackageFile: qsmooth_1.23.0.zip PackageFileSize: 944.3 KiB