Package: qsmooth Version: 1.23.0 Command: /home/biocbuild/bbs-3.21-bioc/R/bin/R CMD check --install=check:qsmooth.install-out.txt --library=/home/biocbuild/bbs-3.21-bioc/R/site-library --timings qsmooth_1.23.0.tar.gz StartedAt: 2025-02-06 01:38:53 -0500 (Thu, 06 Feb 2025) EndedAt: 2025-02-06 01:43:05 -0500 (Thu, 06 Feb 2025) EllapsedTime: 252.3 seconds RetCode: 0 Status: WARNINGS CheckDir: qsmooth.Rcheck Warnings: 1