Package: qsmooth Version: 1.23.0 Command: /home/biocbuild/bbs-3.21-bioc/R/bin/R CMD build --keep-empty-dirs --no-resave-data qsmooth StartedAt: 2025-02-03 18:55:06 -0500 (Mon, 03 Feb 2025) EndedAt: 2025-02-03 18:56:08 -0500 (Mon, 03 Feb 2025) EllapsedTime: 62.1 seconds RetCode: 0 Status: OK PackageFile: qsmooth_1.23.0.tar.gz PackageFileSize: 1.289 MiB