Package: qsmooth Version: 1.23.0 Command: /Library/Frameworks/R.framework/Resources/bin/R CMD INSTALL qsmooth StartedAt: 2025-02-05 15:34:09 -0500 (Wed, 05 Feb 2025) EndedAt: 2025-02-05 15:34:52 -0500 (Wed, 05 Feb 2025) EllapsedTime: 42.1 seconds RetCode: 0 Status: OK