Package: qsmooth Version: 1.23.0 Command: rm -rf qsmooth.buildbin-libdir && mkdir qsmooth.buildbin-libdir && /Users/biocbuild/BBS/utils/build-universal.sh qsmooth_1.23.0.tar.gz /Library/Frameworks/R.framework/Resources/bin/R qsmooth.buildbin-libdir StartedAt: 2025-02-06 00:46:19 -0500 (Thu, 06 Feb 2025) EndedAt: 2025-02-06 00:47:07 -0500 (Thu, 06 Feb 2025) EllapsedTime: 47.4 seconds RetCode: 0 Status: OK PackageFile: qsmooth_1.23.0.tgz PackageFileSize: 1.47 MiB