Package: qsmooth Version: 1.23.0 Command: /home/biocbuild/R/R/bin/R CMD INSTALL qsmooth StartedAt: 2025-01-29 20:21:13 -0000 (Wed, 29 Jan 2025) EndedAt: 2025-01-29 20:21:57 -0000 (Wed, 29 Jan 2025) EllapsedTime: 43.8 seconds RetCode: 0 Status: OK