Package: qsmooth Version: 1.23.0 Command: /Library/Frameworks/R.framework/Resources/bin/R CMD INSTALL qsmooth StartedAt: 2025-02-03 15:57:02 -0500 (Mon, 03 Feb 2025) EndedAt: 2025-02-03 15:57:15 -0500 (Mon, 03 Feb 2025) EllapsedTime: 12.9 seconds RetCode: 0 Status: OK