Package: qsmooth Version: 1.25.0 Command: /Library/Frameworks/R.framework/Resources/bin/R CMD check --install=check:qsmooth.install-out.txt --library=/Library/Frameworks/R.framework/Resources/library --no-vignettes --timings qsmooth_1.25.0.tar.gz StartedAt: 2025-04-29 21:02:08 -0400 (Tue, 29 Apr 2025) EndedAt: 2025-04-29 21:03:41 -0400 (Tue, 29 Apr 2025) EllapsedTime: 93.1 seconds RetCode: 0 Status: WARNINGS CheckDir: qsmooth.Rcheck Warnings: 1