Package: qsmooth Version: 1.23.0 Maintainer: Stephanie C. Hicks MaintainerEmail: shicks19 at jhu.edu git_url: https://git.bioconductor.org/packages/qsmooth git_branch: devel git_last_commit: 6a7968b git_last_commit_date: 2024-10-29 10:35:45 -0500 (Tue, 29 Oct 2024)