Package: qsea Version: 1.35.1 Command: /home/biocbuild/bbs-3.22-bioc/R/bin/R CMD INSTALL qsea StartedAt: 2025-10-21 15:30:55 -0400 (Tue, 21 Oct 2025) EndedAt: 2025-10-21 15:31:27 -0400 (Tue, 21 Oct 2025) EllapsedTime: 31.8 seconds RetCode: 0 Status: OK