Package: qsea Version: 1.35.1 Command: /home/biocbuild/bbs-3.22-bioc/R/bin/R CMD build --keep-empty-dirs --no-resave-data --md5 qsea StartedAt: 2025-10-21 19:27:14 -0400 (Tue, 21 Oct 2025) EndedAt: 2025-10-21 19:28:25 -0400 (Tue, 21 Oct 2025) EllapsedTime: 71.1 seconds RetCode: 0 Status: OK PackageFile: qsea_1.35.1.tar.gz PackageFileSize: 861.3 KiB