Package: qpgraph Version: 2.43.1 Command: rm -rf qpgraph.buildbin-libdir && mkdir qpgraph.buildbin-libdir && F:\biocbuild\bbs-3.22-bioc\R\bin\R.exe CMD INSTALL --build --library=qpgraph.buildbin-libdir qpgraph_2.43.1.tar.gz StartedAt: 2025-08-15 11:01:26 -0400 (Fri, 15 Aug 2025) EndedAt: 2025-08-15 11:03:29 -0400 (Fri, 15 Aug 2025) EllapsedTime: 123.4 seconds RetCode: 0 Status: OK PackageFile: qpgraph_2.43.1.zip PackageFileSize: 4.09 MiB