Package: qpgraph Version: 2.41.0 Command: /home/biocbuild/bbs-3.21-bioc/R/bin/R CMD check --install=check:qpgraph.install-out.txt --library=/home/biocbuild/bbs-3.21-bioc/R/site-library --timings qpgraph_2.41.0.tar.gz StartedAt: 2025-02-17 01:15:02 -0500 (Mon, 17 Feb 2025) EndedAt: 2025-02-17 01:21:25 -0500 (Mon, 17 Feb 2025) EllapsedTime: 382.7 seconds RetCode: 0 Status: OK CheckDir: qpgraph.Rcheck Warnings: 0