Package: qpgraph Version: 2.45.0 Maintainer: Robert Castelo MaintainerEmail: robert.castelo at upf.edu git_url: https://git.bioconductor.org/packages/qpgraph git_branch: devel git_last_commit: eff82ca git_last_commit_date: 2025-10-29 10:02:10 -0500 (Wed, 29 Oct 2025)