Package: qpcrNorm Version: 1.67.0 Command: chmod a+r qpcrNorm -R && F:\biocbuild\bbs-3.22-bioc\R\bin\R.exe CMD build --keep-empty-dirs --no-resave-data qpcrNorm StartedAt: 2025-08-14 22:31:45 -0400 (Thu, 14 Aug 2025) EndedAt: 2025-08-14 22:32:00 -0400 (Thu, 14 Aug 2025) EllapsedTime: 15.2 seconds RetCode: 0 Status: OK PackageFile: qpcrNorm_1.67.0.tar.gz PackageFileSize: 477.3 KiB