Package: qpcrNorm Version: 1.65.0 Command: /home/biocbuild/bbs-3.21-bioc/R/bin/R CMD check --install=check:qpcrNorm.install-out.txt --library=/home/biocbuild/bbs-3.21-bioc/R/site-library --timings qpcrNorm_1.65.0.tar.gz StartedAt: 2025-02-04 01:42:20 -0500 (Tue, 04 Feb 2025) EndedAt: 2025-02-04 01:42:56 -0500 (Tue, 04 Feb 2025) EllapsedTime: 36.1 seconds RetCode: 0 Status: OK CheckDir: qpcrNorm.Rcheck Warnings: 0