Package: qpcrNorm Version: 1.65.0 Command: /home/biocbuild/bbs-3.21-bioc/R/bin/R CMD build --keep-empty-dirs --no-resave-data qpcrNorm StartedAt: 2025-02-03 18:54:46 -0500 (Mon, 03 Feb 2025) EndedAt: 2025-02-03 18:54:55 -0500 (Mon, 03 Feb 2025) EllapsedTime: 9.0 seconds RetCode: 0 Status: OK PackageFile: qpcrNorm_1.65.0.tar.gz PackageFileSize: 549.5 KiB