Package: qmtools Version: 1.13.0 Command: /Library/Frameworks/R.framework/Resources/bin/R CMD INSTALL qmtools StartedAt: 2025-05-27 15:19:08 -0400 (Tue, 27 May 2025) EndedAt: 2025-05-27 15:19:41 -0400 (Tue, 27 May 2025) EllapsedTime: 32.7 seconds RetCode: 0 Status: OK