Package: qmtools Version: 1.13.0 Command: /Library/Frameworks/R.framework/Resources/bin/R CMD check --install=check:qmtools.install-out.txt --library=/Library/Frameworks/R.framework/Resources/library --no-vignettes --timings qmtools_1.13.0.tar.gz StartedAt: 2025-05-08 21:21:23 -0400 (Thu, 08 May 2025) EndedAt: 2025-05-08 21:23:00 -0400 (Thu, 08 May 2025) EllapsedTime: 96.2 seconds RetCode: 0 Status: OK CheckDir: qmtools.Rcheck Warnings: 0