Package: qmtools Version: 1.13.0 Command: rm -rf qmtools.buildbin-libdir && mkdir qmtools.buildbin-libdir && /Users/biocbuild/BBS/utils/build-universal.sh qmtools_1.13.0.tar.gz /Library/Frameworks/R.framework/Resources/bin/R qmtools.buildbin-libdir StartedAt: 2025-05-08 23:25:39 -0400 (Thu, 08 May 2025) EndedAt: 2025-05-08 23:25:51 -0400 (Thu, 08 May 2025) EllapsedTime: 12.3 seconds RetCode: 0 Status: OK PackageFile: qmtools_1.13.0.tgz PackageFileSize: 1.535 MiB