Package: qcmetrics Version: 1.45.0 Command: /home/biocbuild/R/R/bin/R CMD INSTALL qcmetrics StartedAt: 2025-01-29 19:58:42 -0000 (Wed, 29 Jan 2025) EndedAt: 2025-01-29 19:58:53 -0000 (Wed, 29 Jan 2025) EllapsedTime: 10.9 seconds RetCode: 0 Status: OK