Package: qcmetrics Version: 1.45.0 Command: /home/biocbuild/R/R/bin/R CMD check --install=check:qcmetrics.install-out.txt --library=/home/biocbuild/R/R/site-library --no-vignettes --timings qcmetrics_1.45.0.tar.gz StartedAt: 2025-01-28 14:10:40 -0000 (Tue, 28 Jan 2025) EndedAt: 2025-01-28 14:12:15 -0000 (Tue, 28 Jan 2025) EllapsedTime: 95.1 seconds RetCode: 0 Status: OK CheckDir: qcmetrics.Rcheck Warnings: 0