Package: qcmetrics Version: 1.45.0 Command: /home/biocbuild/R/R/bin/R CMD build --keep-empty-dirs --no-resave-data qcmetrics StartedAt: 2025-01-29 01:25:31 -0000 (Wed, 29 Jan 2025) EndedAt: 2025-01-29 01:26:13 -0000 (Wed, 29 Jan 2025) EllapsedTime: 42.0 seconds RetCode: 0 Status: OK PackageFile: qcmetrics_1.45.0.tar.gz PackageFileSize: 4.279 MiB