Package: qcmetrics Version: 1.45.0 Command: /Library/Frameworks/R.framework/Resources/bin/R CMD check --install=check:qcmetrics.install-out.txt --library=/Library/Frameworks/R.framework/Resources/library --no-vignettes --timings qcmetrics_1.45.0.tar.gz StartedAt: 2025-02-03 21:24:19 -0500 (Mon, 03 Feb 2025) EndedAt: 2025-02-03 21:24:50 -0500 (Mon, 03 Feb 2025) EllapsedTime: 31.4 seconds RetCode: 0 Status: OK CheckDir: qcmetrics.Rcheck Warnings: 0