Package: qckitfastq Version: 1.23.0 Command: /home/biocbuild/R/R/bin/R CMD INSTALL qckitfastq StartedAt: 2025-01-29 19:37:07 -0000 (Wed, 29 Jan 2025) EndedAt: 2025-01-29 19:37:33 -0000 (Wed, 29 Jan 2025) EllapsedTime: 26.1 seconds RetCode: 0 Status: OK