Package: qckitfastq Version: 1.23.0 Command: /Library/Frameworks/R.framework/Resources/bin/R CMD INSTALL qckitfastq StartedAt: 2025-02-03 15:40:54 -0500 (Mon, 03 Feb 2025) EndedAt: 2025-02-03 15:41:01 -0500 (Mon, 03 Feb 2025) EllapsedTime: 6.8 seconds RetCode: 0 Status: OK