Back to Multiple platform build/check report for BioC 3.21: simplified long |
|
This page was generated on 2025-02-04 11:39 -0500 (Tue, 04 Feb 2025).
Hostname | OS | Arch (*) | R version | Installed pkgs |
---|---|---|---|---|
nebbiolo1 | Linux (Ubuntu 24.04.1 LTS) | x86_64 | R Under development (unstable) (2025-01-20 r87609) -- "Unsuffered Consequences" | 4716 |
palomino7 | Windows Server 2022 Datacenter | x64 | R Under development (unstable) (2025-01-21 r87610 ucrt) -- "Unsuffered Consequences" | 4478 |
lconway | macOS 12.7.1 Monterey | x86_64 | R Under development (unstable) (2025-01-22 r87618) -- "Unsuffered Consequences" | 4489 |
kjohnson3 | macOS 13.7.1 Ventura | arm64 | R Under development (unstable) (2025-01-20 r87609) -- "Unsuffered Consequences" | 4442 |
Click on any hostname to see more info about the system (e.g. compilers) (*) as reported by 'uname -p', except on Windows and Mac OS X |
To the developers/maintainers of the pwalign package: - Allow up to 24 hours (and sometimes 48 hours) for your latest push to git@git.bioconductor.org:packages/pwalign.git to reflect on this report. See Troubleshooting Build Report for more information. - Use the following Renviron settings to reproduce errors and warnings. - If 'R CMD check' started to fail recently on the Linux builder(s) over a missing dependency, add the missing dependency to 'Suggests:' in your DESCRIPTION file. See Renviron.bioc for more information. |
Package 1624/2295 | Hostname | OS / Arch | INSTALL | BUILD | CHECK | BUILD BIN | ||||||||
pwalign 1.3.2 (landing page) Hervé Pagès
| nebbiolo1 | Linux (Ubuntu 24.04.1 LTS) / x86_64 | OK | OK | OK | |||||||||
palomino7 | Windows Server 2022 Datacenter / x64 | OK | OK | OK | OK | |||||||||
lconway | macOS 12.7.1 Monterey / x86_64 | OK | OK | OK | OK | |||||||||
kjohnson3 | macOS 13.7.1 Ventura / arm64 | OK | OK | OK | OK | |||||||||
QUICK STATS | OS / Arch | INSTALL | BUILD | CHECK | BUILD BIN | |||||||||||||||||
nebbiolo1 | Linux (Ubuntu 24.04.1 LTS) / x86_64 |
|
|
| ||||||||||||||||||
palomino7 | Windows Server 2022 Datacenter / x64 |
|
|
|
| |||||||||||||||||
lconway | macOS 12.7.1 Monterey / x86_64 |
|
|
|
| |||||||||||||||||
kjohnson3 | macOS 13.7.1 Ventura / arm64 |
|
|
|
| |||||||||||||||||
Package 1/32 | Hostname | OS / Arch | INSTALL | BUILD | CHECK | BUILD BIN | ||||||||||||||||
amplican 1.29.0 (landing page) Eivind Valen
| nebbiolo1 | Linux (Ubuntu 24.04.1 LTS) / x86_64 | OK | OK | OK | |||||||||||||||||
palomino7 | Windows Server 2022 Datacenter / x64 | OK | OK | OK | OK | |||||||||||||||||
lconway | macOS 12.7.1 Monterey / x86_64 | OK | OK | OK | OK | |||||||||||||||||
kjohnson3 | macOS 13.7.1 Ventura / arm64 | OK | OK | OK | OK | |||||||||||||||||
Package 2/32 | Hostname | OS / Arch | INSTALL | BUILD | CHECK | BUILD BIN | ||||||||||||||||
ChIPpeakAnno 3.41.1 (landing page) Jianhong Ou
| nebbiolo1 | Linux (Ubuntu 24.04.1 LTS) / x86_64 | OK | OK | OK | |||||||||||||||||
palomino7 | Windows Server 2022 Datacenter / x64 | OK | OK | OK | OK | |||||||||||||||||
lconway | macOS 12.7.1 Monterey / x86_64 | OK | OK | OK | OK | |||||||||||||||||
kjohnson3 | macOS 13.7.1 Ventura / arm64 | OK | OK | OK | OK | |||||||||||||||||
Package 3/32 | Hostname | OS / Arch | INSTALL | BUILD | CHECK | BUILD BIN | ||||||||||||||||
CNEr 1.43.0 (landing page) Ge Tan
| nebbiolo1 | Linux (Ubuntu 24.04.1 LTS) / x86_64 | OK | OK | WARNINGS | |||||||||||||||||
palomino7 | Windows Server 2022 Datacenter / x64 | OK | OK | WARNINGS | OK | |||||||||||||||||
lconway | macOS 12.7.1 Monterey / x86_64 | OK | OK | WARNINGS | OK | |||||||||||||||||
kjohnson3 | macOS 13.7.1 Ventura / arm64 | OK | OK | ERROR | OK | |||||||||||||||||
Package 4/32 | Hostname | OS / Arch | INSTALL | BUILD | CHECK | BUILD BIN | ||||||||||||||||
crisprShiny 1.3.0 (landing page) Jean-Philippe Fortin
| nebbiolo1 | Linux (Ubuntu 24.04.1 LTS) / x86_64 | OK | OK | OK | |||||||||||||||||
palomino7 | Windows Server 2022 Datacenter / x64 | OK | OK | OK | OK | |||||||||||||||||
lconway | macOS 12.7.1 Monterey / x86_64 | OK | OK | OK | OK | |||||||||||||||||
kjohnson3 | macOS 13.7.1 Ventura / arm64 | OK | OK | OK | OK | |||||||||||||||||
Package 5/32 | Hostname | OS / Arch | INSTALL | BUILD | CHECK | BUILD BIN | ||||||||||||||||
DominoEffect 1.27.0 (landing page) Marija Buljan
| nebbiolo1 | Linux (Ubuntu 24.04.1 LTS) / x86_64 | OK | OK | OK | |||||||||||||||||
palomino7 | Windows Server 2022 Datacenter / x64 | OK | OK | OK | OK | |||||||||||||||||
lconway | macOS 12.7.1 Monterey / x86_64 | OK | OK | OK | OK | |||||||||||||||||
kjohnson3 | macOS 13.7.1 Ventura / arm64 | OK | OK | OK | OK | |||||||||||||||||
Package 6/32 | Hostname | OS / Arch | INSTALL | BUILD | CHECK | BUILD BIN | ||||||||||||||||
enhancerHomologSearch 1.13.2 (landing page) Jianhong Ou
| nebbiolo1 | Linux (Ubuntu 24.04.1 LTS) / x86_64 | OK | OK | OK | |||||||||||||||||
palomino7 | Windows Server 2022 Datacenter / x64 | OK | OK | OK | OK | |||||||||||||||||
lconway | macOS 12.7.1 Monterey / x86_64 | OK | OK | OK | OK | |||||||||||||||||
kjohnson3 | macOS 13.7.1 Ventura / arm64 | OK | OK | OK | OK | |||||||||||||||||
Package 7/32 | Hostname | OS / Arch | INSTALL | BUILD | CHECK | BUILD BIN | ||||||||||||||||
ggseqalign 1.1.0 (landing page) Simeon Lim Rossmann
| nebbiolo1 | Linux (Ubuntu 24.04.1 LTS) / x86_64 | OK | OK | OK | |||||||||||||||||
palomino7 | Windows Server 2022 Datacenter / x64 | OK | OK | OK | OK | |||||||||||||||||
lconway | macOS 12.7.1 Monterey / x86_64 | OK | OK | OK | OK | |||||||||||||||||
kjohnson3 | macOS 13.7.1 Ventura / arm64 | OK | OK | OK | OK | |||||||||||||||||
Package 8/32 | Hostname | OS / Arch | INSTALL | BUILD | CHECK | BUILD BIN | ||||||||||||||||
J. Toedling
| nebbiolo1 | Linux (Ubuntu 24.04.1 LTS) / x86_64 | ERROR | ERROR | skipped | |||||||||||||||||
palomino7 | Windows Server 2022 Datacenter / x64 | ERROR | ERROR | skipped | skipped | |||||||||||||||||
lconway | macOS 12.7.1 Monterey / x86_64 | ERROR | ERROR | skipped | skipped | |||||||||||||||||
kjohnson3 | macOS 13.7.1 Ventura / arm64 | ERROR | ERROR | skipped | skipped | |||||||||||||||||
Package 9/32 | Hostname | OS / Arch | INSTALL | BUILD | CHECK | BUILD BIN | ||||||||||||||||
GUIDEseq 1.37.0 (landing page) Lihua Julie Zhu
| nebbiolo1 | Linux (Ubuntu 24.04.1 LTS) / x86_64 | OK | OK | OK | |||||||||||||||||
palomino7 | Windows Server 2022 Datacenter / x64 | OK | OK | OK | OK | |||||||||||||||||
lconway | macOS 12.7.1 Monterey / x86_64 | OK | OK | OK | OK | |||||||||||||||||
kjohnson3 | macOS 13.7.1 Ventura / arm64 | OK | OK | OK | OK | |||||||||||||||||
Package 10/32 | Hostname | OS / Arch | INSTALL | BUILD | CHECK | BUILD BIN | ||||||||||||||||
hiReadsProcessor 1.43.0 (landing page) Nirav V Malani
| nebbiolo1 | Linux (Ubuntu 24.04.1 LTS) / x86_64 | OK | OK | OK | |||||||||||||||||
palomino7 | Windows Server 2022 Datacenter / x64 | ... NOT SUPPORTED ... | ||||||||||||||||||||
lconway | macOS 12.7.1 Monterey / x86_64 | OK | OK | OK | OK | |||||||||||||||||
kjohnson3 | macOS 13.7.1 Ventura / arm64 | OK | OK | OK | OK | |||||||||||||||||
Package 11/32 | Hostname | OS / Arch | INSTALL | BUILD | CHECK | BUILD BIN | ||||||||||||||||
Jens Reeder
| nebbiolo1 | Linux (Ubuntu 24.04.1 LTS) / x86_64 | OK | OK | TIMEOUT | |||||||||||||||||
palomino7 | Windows Server 2022 Datacenter / x64 | ... NOT SUPPORTED ... | ||||||||||||||||||||
lconway | macOS 12.7.1 Monterey / x86_64 | ... NOT SUPPORTED ... | ||||||||||||||||||||
kjohnson3 | macOS 13.7.1 Ventura / arm64 | ... NOT SUPPORTED ... | ||||||||||||||||||||
Package 12/32 | Hostname | OS / Arch | INSTALL | BUILD | CHECK | BUILD BIN | ||||||||||||||||
IMMAN 1.27.0 (landing page) Minoo Ashtiani
| nebbiolo1 | Linux (Ubuntu 24.04.1 LTS) / x86_64 | OK | OK | OK | |||||||||||||||||
palomino7 | Windows Server 2022 Datacenter / x64 | OK | OK | OK | OK | |||||||||||||||||
lconway | macOS 12.7.1 Monterey / x86_64 | OK | OK | OK | OK | |||||||||||||||||
kjohnson3 | macOS 13.7.1 Ventura / arm64 | OK | OK | OK | OK | |||||||||||||||||
Package 13/32 | Hostname | OS / Arch | INSTALL | BUILD | CHECK | BUILD BIN | ||||||||||||||||
iPAC 1.51.0 (landing page) Gregory Ryslik
| nebbiolo1 | Linux (Ubuntu 24.04.1 LTS) / x86_64 | OK | OK | ERROR | |||||||||||||||||
palomino7 | Windows Server 2022 Datacenter / x64 | OK | OK | OK | OK | |||||||||||||||||
lconway | macOS 12.7.1 Monterey / x86_64 | OK | OK | ERROR | OK | |||||||||||||||||
kjohnson3 | macOS 13.7.1 Ventura / arm64 | OK | OK | OK | OK | |||||||||||||||||
Package 14/32 | Hostname | OS / Arch | INSTALL | BUILD | CHECK | BUILD BIN | ||||||||||||||||
IsoformSwitchAnalyzeR 2.7.0 (landing page) Kristoffer Vitting-Seerup
| nebbiolo1 | Linux (Ubuntu 24.04.1 LTS) / x86_64 | OK | OK | OK | |||||||||||||||||
palomino7 | Windows Server 2022 Datacenter / x64 | OK | OK | OK | OK | |||||||||||||||||
lconway | macOS 12.7.1 Monterey / x86_64 | OK | OK | OK | OK | |||||||||||||||||
kjohnson3 | macOS 13.7.1 Ventura / arm64 | OK | OK | OK | OK | |||||||||||||||||
Package 15/32 | Hostname | OS / Arch | INSTALL | BUILD | CHECK | BUILD BIN | ||||||||||||||||
LinTInd 1.11.0 (landing page) Luyue Wang
| nebbiolo1 | Linux (Ubuntu 24.04.1 LTS) / x86_64 | OK | OK | OK | |||||||||||||||||
palomino7 | Windows Server 2022 Datacenter / x64 | OK | OK | OK | OK | |||||||||||||||||
lconway | macOS 12.7.1 Monterey / x86_64 | OK | OK | OK | OK | |||||||||||||||||
kjohnson3 | macOS 13.7.1 Ventura / arm64 | OK | OK | OK | OK | |||||||||||||||||
Package 16/32 | Hostname | OS / Arch | INSTALL | BUILD | CHECK | BUILD BIN | ||||||||||||||||
MethTargetedNGS 1.39.0 (landing page) Muhammad Ahmer Jamil
| nebbiolo1 | Linux (Ubuntu 24.04.1 LTS) / x86_64 | OK | OK | OK | |||||||||||||||||
palomino7 | Windows Server 2022 Datacenter / x64 | OK | OK | OK | OK | |||||||||||||||||
lconway | macOS 12.7.1 Monterey / x86_64 | OK | OK | OK | OK | |||||||||||||||||
kjohnson3 | macOS 13.7.1 Ventura / arm64 | OK | OK | OK | OK | |||||||||||||||||
Package 17/32 | Hostname | OS / Arch | INSTALL | BUILD | CHECK | BUILD BIN | ||||||||||||||||
methylscaper 1.15.0 (landing page) Bacher Rhonda
| nebbiolo1 | Linux (Ubuntu 24.04.1 LTS) / x86_64 | OK | OK | OK | |||||||||||||||||
palomino7 | Windows Server 2022 Datacenter / x64 | OK | OK | OK | OK | |||||||||||||||||
lconway | macOS 12.7.1 Monterey / x86_64 | OK | OK | OK | OK | |||||||||||||||||
kjohnson3 | macOS 13.7.1 Ventura / arm64 | OK | OK | OK | OK | |||||||||||||||||
Package 18/32 | Hostname | OS / Arch | INSTALL | BUILD | CHECK | BUILD BIN | ||||||||||||||||
motifbreakR 2.21.0 (landing page) Simon Gert Coetzee
| nebbiolo1 | Linux (Ubuntu 24.04.1 LTS) / x86_64 | OK | OK | WARNINGS | |||||||||||||||||
palomino7 | Windows Server 2022 Datacenter / x64 | OK | OK | WARNINGS | OK | |||||||||||||||||
lconway | macOS 12.7.1 Monterey / x86_64 | OK | OK | WARNINGS | OK | |||||||||||||||||
kjohnson3 | macOS 13.7.1 Ventura / arm64 | OK | OK | WARNINGS | OK | |||||||||||||||||
Package 19/32 | Hostname | OS / Arch | INSTALL | BUILD | CHECK | BUILD BIN | ||||||||||||||||
MSA2dist 1.11.1 (landing page) Kristian K Ullrich
| nebbiolo1 | Linux (Ubuntu 24.04.1 LTS) / x86_64 | OK | OK | OK | |||||||||||||||||
palomino7 | Windows Server 2022 Datacenter / x64 | OK | OK | OK | OK | |||||||||||||||||
lconway | macOS 12.7.1 Monterey / x86_64 | OK | OK | OK | OK | |||||||||||||||||
kjohnson3 | macOS 13.7.1 Ventura / arm64 | OK | OK | OK | OK | |||||||||||||||||
Package 20/32 | Hostname | OS / Arch | INSTALL | BUILD | CHECK | BUILD BIN | ||||||||||||||||
openPrimeR 1.29.0 (landing page) Matthias Döring
| nebbiolo1 | Linux (Ubuntu 24.04.1 LTS) / x86_64 | OK | OK | OK | |||||||||||||||||
palomino7 | Windows Server 2022 Datacenter / x64 | OK | OK | OK | OK | |||||||||||||||||
lconway | macOS 12.7.1 Monterey / x86_64 | OK | OK | OK | OK | |||||||||||||||||
kjohnson3 | macOS 13.7.1 Ventura / arm64 | OK | OK | OK | OK | |||||||||||||||||
Package 21/32 | Hostname | OS / Arch | INSTALL | BUILD | CHECK | BUILD BIN | ||||||||||||||||
QSutils 1.25.0 (landing page) Mercedes Guerrero-Murillo
| nebbiolo1 | Linux (Ubuntu 24.04.1 LTS) / x86_64 | OK | OK | OK | |||||||||||||||||
palomino7 | Windows Server 2022 Datacenter / x64 | OK | OK | OK | OK | |||||||||||||||||
lconway | macOS 12.7.1 Monterey / x86_64 | OK | OK | OK | OK | |||||||||||||||||
kjohnson3 | macOS 13.7.1 Ventura / arm64 | OK | OK | OK | OK | |||||||||||||||||
Package 22/32 | Hostname | OS / Arch | INSTALL | BUILD | CHECK | BUILD BIN | ||||||||||||||||
QuartPAC 1.39.0 (landing page) Gregory Ryslik
| nebbiolo1 | Linux (Ubuntu 24.04.1 LTS) / x86_64 | OK | OK | OK | |||||||||||||||||
palomino7 | Windows Server 2022 Datacenter / x64 | OK | OK | OK | OK | |||||||||||||||||
lconway | macOS 12.7.1 Monterey / x86_64 | OK | OK | OK | OK | |||||||||||||||||
kjohnson3 | macOS 13.7.1 Ventura / arm64 | OK | OK | ERROR | OK | |||||||||||||||||
Package 23/32 | Hostname | OS / Arch | INSTALL | BUILD | CHECK | BUILD BIN | ||||||||||||||||
R453Plus1Toolbox 1.57.0 (landing page) Hans-Ulrich Klein
| nebbiolo1 | Linux (Ubuntu 24.04.1 LTS) / x86_64 | OK | OK | OK | |||||||||||||||||
palomino7 | Windows Server 2022 Datacenter / x64 | OK | OK | OK | OK | |||||||||||||||||
lconway | macOS 12.7.1 Monterey / x86_64 | OK | OK | OK | OK | |||||||||||||||||
kjohnson3 | macOS 13.7.1 Ventura / arm64 | OK | OK | OK | OK | |||||||||||||||||
Package 24/32 | Hostname | OS / Arch | INSTALL | BUILD | CHECK | BUILD BIN | ||||||||||||||||
sangeranalyseR 1.17.0 (landing page) Kuan-Hao Chao
| nebbiolo1 | Linux (Ubuntu 24.04.1 LTS) / x86_64 | OK | OK | ERROR | |||||||||||||||||
palomino7 | Windows Server 2022 Datacenter / x64 | OK | OK | ERROR | OK | |||||||||||||||||
lconway | macOS 12.7.1 Monterey / x86_64 | OK | OK | ERROR | OK | |||||||||||||||||
kjohnson3 | macOS 13.7.1 Ventura / arm64 | OK | OK | ERROR | OK | |||||||||||||||||
Package 25/32 | Hostname | OS / Arch | INSTALL | BUILD | CHECK | BUILD BIN | ||||||||||||||||
sangerseqR 1.43.0 (landing page) Jonathon Hill
| nebbiolo1 | Linux (Ubuntu 24.04.1 LTS) / x86_64 | OK | OK | OK | |||||||||||||||||
palomino7 | Windows Server 2022 Datacenter / x64 | OK | OK | OK | OK | |||||||||||||||||
lconway | macOS 12.7.1 Monterey / x86_64 | OK | OK | OK | OK | |||||||||||||||||
kjohnson3 | macOS 13.7.1 Ventura / arm64 | OK | OK | OK | OK | |||||||||||||||||
Package 26/32 | Hostname | OS / Arch | INSTALL | BUILD | CHECK | BUILD BIN | ||||||||||||||||
scanMiR 1.13.0 (landing page) Pierre-Luc Germain
| nebbiolo1 | Linux (Ubuntu 24.04.1 LTS) / x86_64 | OK | OK | OK | |||||||||||||||||
palomino7 | Windows Server 2022 Datacenter / x64 | OK | OK | OK | OK | |||||||||||||||||
lconway | macOS 12.7.1 Monterey / x86_64 | OK | OK | OK | OK | |||||||||||||||||
kjohnson3 | macOS 13.7.1 Ventura / arm64 | OK | OK | OK | OK | |||||||||||||||||
Package 27/32 | Hostname | OS / Arch | INSTALL | BUILD | CHECK | BUILD BIN | ||||||||||||||||
ShortRead 1.65.0 (landing page) Bioconductor Package Maintainer
| nebbiolo1 | Linux (Ubuntu 24.04.1 LTS) / x86_64 | OK | OK | WARNINGS | |||||||||||||||||
palomino7 | Windows Server 2022 Datacenter / x64 | OK | OK | WARNINGS | OK | |||||||||||||||||
lconway | macOS 12.7.1 Monterey / x86_64 | OK | OK | WARNINGS | OK | |||||||||||||||||
kjohnson3 | macOS 13.7.1 Ventura / arm64 | OK | OK | WARNINGS | OK | |||||||||||||||||
Package 28/32 | Hostname | OS / Arch | INSTALL | BUILD | CHECK | BUILD BIN | ||||||||||||||||
SPLINTER 1.33.0 (landing page) Diana Low
| nebbiolo1 | Linux (Ubuntu 24.04.1 LTS) / x86_64 | OK | OK | OK | |||||||||||||||||
palomino7 | Windows Server 2022 Datacenter / x64 | OK | OK | WARNINGS | OK | |||||||||||||||||
lconway | macOS 12.7.1 Monterey / x86_64 | OK | OK | OK | OK | |||||||||||||||||
kjohnson3 | macOS 13.7.1 Ventura / arm64 | OK | ERROR | skipped | skipped | |||||||||||||||||
Package 29/32 | Hostname | OS / Arch | INSTALL | BUILD | CHECK | BUILD BIN | ||||||||||||||||
StructuralVariantAnnotation 1.23.0 (landing page) Daniel Cameron
| nebbiolo1 | Linux (Ubuntu 24.04.1 LTS) / x86_64 | OK | OK | OK | |||||||||||||||||
palomino7 | Windows Server 2022 Datacenter / x64 | OK | OK | OK | OK | |||||||||||||||||
lconway | macOS 12.7.1 Monterey / x86_64 | OK | OK | OK | OK | |||||||||||||||||
kjohnson3 | macOS 13.7.1 Ventura / arm64 | OK | OK | OK | OK | |||||||||||||||||
Package 30/32 | Hostname | OS / Arch | INSTALL | BUILD | CHECK | BUILD BIN | ||||||||||||||||
svaNUMT 1.13.0 (landing page) Ruining Dong
| nebbiolo1 | Linux (Ubuntu 24.04.1 LTS) / x86_64 | OK | OK | OK | |||||||||||||||||
palomino7 | Windows Server 2022 Datacenter / x64 | OK | OK | OK | OK | |||||||||||||||||
lconway | macOS 12.7.1 Monterey / x86_64 | OK | OK | OK | OK | |||||||||||||||||
kjohnson3 | macOS 13.7.1 Ventura / arm64 | OK | OK | OK | OK | |||||||||||||||||
Package 31/32 | Hostname | OS / Arch | INSTALL | BUILD | CHECK | BUILD BIN | ||||||||||||||||
TFBSTools 1.45.1 (landing page) Ge Tan
| nebbiolo1 | Linux (Ubuntu 24.04.1 LTS) / x86_64 | OK | OK | OK | |||||||||||||||||
palomino7 | Windows Server 2022 Datacenter / x64 | OK | OK | OK | OK | |||||||||||||||||
lconway | macOS 12.7.1 Monterey / x86_64 | OK | OK | OK | OK | |||||||||||||||||
kjohnson3 | macOS 13.7.1 Ventura / arm64 | OK | OK | OK | OK | |||||||||||||||||
Package 32/32 | Hostname | OS / Arch | INSTALL | BUILD | CHECK | BUILD BIN | ||||||||||||||||
XNAString 1.15.0 (landing page) Marianna Plucinska
| nebbiolo1 | Linux (Ubuntu 24.04.1 LTS) / x86_64 | OK | OK | WARNINGS | |||||||||||||||||
palomino7 | Windows Server 2022 Datacenter / x64 | OK | OK | OK | OK | |||||||||||||||||
lconway | macOS 12.7.1 Monterey / x86_64 | OK | OK | WARNINGS | OK | |||||||||||||||||
kjohnson3 | macOS 13.7.1 Ventura / arm64 | OK | OK | WARNINGS | OK | |||||||||||||||||