Package: pvca Version: 1.49.0 Command: chmod a+r pvca -R && F:\biocbuild\bbs-3.22-bioc\R\bin\R.exe CMD build --keep-empty-dirs --no-resave-data pvca StartedAt: 2025-08-14 22:30:29 -0400 (Thu, 14 Aug 2025) EndedAt: 2025-08-14 22:30:59 -0400 (Thu, 14 Aug 2025) EllapsedTime: 30.0 seconds RetCode: 0 Status: OK PackageFile: pvca_1.49.0.tar.gz PackageFileSize: 109.8 KiB